Workbook

Sheet FY24 Proposed Managerial
D2: FY24 | F2: compare Managerial to Department | H2: compare Managerial to Department | J2: FY23 | L2: COMMENTS
A3: ORG | B3: OBJ | C3: ACCOUNT DESCRIPTION | D3: FY24 Projected Managerial Budget Appropriation | F3: % Change between Department Head Budget Appropriation and Managerial Budget Appropriation | H3: $ Change between Department Head Budget Appropriation and Managerial Budget Appropriation | J3: FY23 Approved Budget Appropriation
A4: 12020500 | B4: 50108 | C4: Elected Officals | D4: 22583 | F4: =H4/J4 -> 0.15762764 | H4: =D4-J4 -> 3075 | J4: 19508 | M4: general gov | N4: personnel
A5: 12020500 | B5: 50202 | C5: Workers Comp Insurance | D5: =ROUNDUP((91.23),0) -> 92 | F5: =H5/J5 -> 0.61403509 | H5: =D5-J5 -> 35 | J5: 57 | M5: general gov | N5: personnel
A6: 12020500 | B6: 50230 | C6: FICA Employer Costs | D6: =D4*0.0765 -> 1727.5995 | F6: =H6/J6 -> 0.15790851 | H6: =D6-J6 -> 235.5995 | J6: 1492 | M6: general gov | N6: personnel
A7: 12020500 | B7: 50301 | C7: Office Supplies | D7: 250 | F7: =H7/J7 -> -0.5 | H7: =D7-J7 -> -250 | J7: 500 | M7: general gov | N7: rm op
A8: 12020500 | B8: 50305 | C8: Books and Periodicals | D8: 150 | F8: 1 | H8: =D8-J8 -> 150 | J8: 0 | M8: general gov | N8: rm op
A9: 12020500 | B9: 50306 | C9: Postage | D9: 50 | F9: =H9/J9 -> 0 | H9: =D9-J9 -> 0 | J9: 50 | M9: general gov | N9: rm op
A10: 12020500 | B10: 50307 | C10: Advertising | D10: 0 | F10: =H10/J10 -> -1 | H10: =D10-J10 -> -800 | J10: 800 | M10: general gov | N10: rm op
A11: 12020500 | B11: 50401 | C11: Professional Development | D11: 500 | F11: =H11/J11 -> 0 | H11: =D11-J11 -> 0 | J11: 500 | M11: general gov | N11: personnel
A12: 12020500 | B12: 50960 | C12: Employee Recognition | D12: =5000+1200 -> 6200 | F12: =H12/J12 -> 0.24 | H12: =D12-J12 -> 1200 | J12: 5000 | L12: employee recognition (season tickets) | M12: general gov | N12: personnel
C14: Total 12050500 Elected Officals | D14: =SUM(D4:D12) -> 31552.6 | F14: =H14/J14 -> 0.13063387 | H14: =SUM(H4:H12) -> 3645.5995 | J14: =SUM(J4:J12) -> 27907 | M14: general gov
A16: 12021000 | B16: 50101 | C16: Town Manager | D16: 113300 | F16: =H16/J16 -> 0.018701672 | H16: =D16-J16 -> 2080 | J16: 111220 | L16: 3% COLA | M16: general gov | N16: personnel
A17: 12021000 | B17: 50104 | C17: Non Supervisory | D17: =ROUNDUP((177841.52),0) -> 177842 | F17: =H17/J17 -> 0.071305081 | H17: =D17-J17 -> 11837 | J17: 166005 | L17: 3% COLA - FILLED POSITIONS WERE LESS THAN FY23 BUDGET | M17: general gov | N17: personnel
A18: 12021000 | B18: 50107 | C18: Administrative | D18: =ROUNDUP((48734.4),0) -> 48735 | F18: =H18/J18 -> 0.065013112 | H18: =D18-J18 -> 2975 | J18: 45760 | L18: 3% COLA | M18: general gov | N18: personnel
A19: 12021000 | B19: 50201 | C19: Unemployment Costs | D19: =ROUNDUP((235.2),0) -> 236 | F19: =H19/J19 -> -0.20805369 | H19: =D19-J19 -> -62 | J19: 298 | M19: general gov | N19: personnel
A20: 12021000 | B20: 50202 | C20: Workers Comp Insurance | D20: =ROUNDUP((4849.82),0) -> 4850 | F20: =H20/J20 -> 0.37315968 | H20: =D20-J20 -> 1318 | J20: 3532 | M20: general gov | N20: personnel
A21: 12021000 | B21: 50210 | C21: MEPERS - Employer Share | D21: =(D18+D17+D16)*0.102 -> 34667.454 | F21: =H21/J21 -> 0.052314655 | H21: =D21-J21 -> 1723.454 | J21: 32944 | M21: general gov | N21: personnel
A22: 12021000 | B22: 50220 | C22: Health Insurance | D22: =ROUNDUP((30774.57),0) -> 30775 | F22: =H22/J22 -> -0.5185388 | H22: =D22-J22 -> -33145 | J22: 63920 | M22: general gov | N22: personnel
A23: 12021000 | B23: 50230 | C23: FICA Employer Costs | D23: =(D18+D17+D16)*0.102 -> 34667.454 | F23: =H23/J23 -> 0.40308621 | H23: =D23-J23 -> 9959.454 | J23: 24708 | M23: general gov | N23: personnel
A24: 12021000 | B24: 50301 | C24: Office Supplies | D24: 2000 | F24: =H24/J24 -> 0 | H24: =D24-J24 -> 0 | J24: 2000 | M24: general gov | N24: rm op
A25: 12021000 | B25: 50306 | C25: Postage | D25: 75 | F25: =H25/J25 -> -0.75 | H25: =D25-J25 -> -225 | J25: 300 | M25: general gov | N25: rm op
A26: 12021000 | B26: 50307 | C26: Advertising | D26: 1000 | F26: =H26/J26 -> 0 | H26: =D26-J26 -> 0 | J26: 1000 | M26: general gov | N26: rm op
A27: 12021000 | B27: 50352 | C27: Cell Phone/Allowances | D27: 1260 | F27: =H27/J27 -> 0 | H27: =D27-J27 -> 0 | J27: 1260 | M27: general gov | N27: rm op
A28: 12021000 | B28: 50401 | C28: Professional Development | D28: 7000 | F28: =H28/J28 -> 0.75 | H28: =D28-J28 -> 3000 | J28: 4000 | M28: general gov | N28: personnel
A29: 12021000 | B29: 50402 | C29: Dues and Memberships | D29: 2000 | F29: =H29/J29 -> 19 | H29: =D29-J29 -> 1900 | J29: 100 | M29: general gov | N29: personnel
A30: 12021000 | B30: 50413 | C30: Mileage/ travel reimbursement | D30: 6020 | F30: =H30/J30 -> 1.0758621 | H30: =D30-J30 -> 3120 | J30: 2900 | M30: general gov | N30: personnel
A31: 12021000 | B31: 50451 | C31: Contracted Professional Svs | D31: 5000 | F31: 1 | H31: =D31-J31 -> 5000 | J31: 0 | L31: HR Consulting - Town Manager evaluations | M31: general gov | N31: contract
A32: 12021000 | B32: 50452 | C32: Audit services | D32: 12934 | F32: =H32/J32 -> 0.30199315 | H32: =D32-J32 -> 3000 | J32: 9934 | M32: general gov | N32: contract
C34: Total 12021000 Town Manager | D34: =SUM(D16:D32) -> 482361.91 | F34: =H34/J34 -> 0.026561849 | H34: =SUM(H16:H33) -> 12480.908 | J34: =SUM(J16:J32) -> 469881 | M34: general gov
A36: 12021500 | B36: 50108 | C36: Elected Officials | D36: =ROUNDUP((787.8),0) -> 788 | F36: =H36/J36 -> -0.0012674271 | H36: =D36-J36 -> -1 | J36: 789 | M36: general gov | N36: personnel
A37: 12021500 | B37: 50202 | C37: Workers Comp Insurance | D37: =ROUNDUP((3.69),0) -> 4 | F37: =H37/J37 -> 3 | H37: =D37-J37 -> 3 | J37: 1 | M37: general gov | N37: personnel
A38: 12021500 | B38: 50230 | C38: FICA Employer Costs | D38: =D36*0.0765 -> 60.282 | F38: =H38/J38 -> 0.0047 | H38: =D38-J38 -> 0.282 | J38: 60 | M38: general gov | N38: personnel
A39: 12021500 | B39: 50301 | C39: Office Supplies | D39: 50 | F39: =H39/J39 -> 0 | H39: =D39-J39 -> 0 | J39: 50 | M39: general gov | N39: rm op
A40: 12021500 | B40: 50306 | C40: Postage | D40: 50 | F40: =H40/J40 -> 0 | H40: =D40-J40 -> 0 | J40: 50 | M40: general gov | N40: rm op
A41: 12021500 | B41: 50307 | C41: Advertising | D41: 250 | F41: =H41/J41 -> 0 | H41: =D41-J41 -> 0 | J41: 250 | M41: general gov | N41: rm op
A42: 12021500 | B42: 50401 | C42: Professional Development | D42: 140 | F42: =H42/J42 -> 0 | H42: =D42-J42 -> 0 | J42: 140 | M42: general gov | N42: personnel
C44: Total 12021500 Appeals Board | D44: =SUM(D36:D42) -> 1342.282 | F44: =H44/J44 -> 0.0017029851 | H44: =SUM(H36:H42) -> 2.282 | J44: =SUM(J36:J42) -> 1340 | M44: general gov
A46: 12021600 | B46: 50108 | C46: Elected Officials | D46: =ROUNDUP((5249.52),0) -> 5250 | F46: =H46/J46 -> 0 | H46: =D46-J46 -> 0 | J46: 5250 | M46: general gov | N46: personnel
A47: 12021600 | B47: 50202 | C47: Workers Comp Insurance | D47: =ROUNDUP((24.56),0) -> 25 | F47: =H47/J47 -> 0.78571429 | H47: =D47-J47 -> 11 | J47: 14 | M47: general gov | N47: personnel
...

Sheet FY24 Proposed Managerial print
D2: FY24 | F2: compare Managerial to Department | H2: compare Managerial to Department | J2: FY23 | L2: COMMENTS
A3: ORG | B3: OBJ | C3: ACCOUNT DESCRIPTION | D3: FY24 Projected Managerial Budget Appropriation | F3: % Change between Department Head Budget Appropriation and Managerial Budget Appropriation | H3: $ Change between Department Head Budget Appropriation and Managerial Budget Appropriation | J3: FY23 Approved Budget Appropriation
A4: 12020500 | B4: 50108 | C4: Elected Officals | D4: =ROUNDUP((19500.52),0) -> 19501 | F4: =H4/J4 -> -0.00035882715 | H4: =D4-J4 -> -7 | J4: 19508
A5: 12020500 | B5: 50202 | C5: Workers Comp Insurance | D5: =ROUNDUP((91.23),0) -> 92 | F5: =H5/J5 -> 0.61403509 | H5: =D5-J5 -> 35 | J5: 57
A6: 12020500 | B6: 50230 | C6: FICA Employer Costs | D6: =ROUNDUP((1491.79),0) -> 1492 | F6: =H6/J6 -> 0 | H6: =D6-J6 -> 0 | J6: 1492
A7: 12020500 | B7: 50301 | C7: Office Supplies | D7: 250 | F7: =H7/J7 -> -0.5 | H7: =D7-J7 -> -250 | J7: 500
A8: 12020500 | B8: 50305 | C8: Books and Periodicals | D8: 150 | F8: 1 | H8: =D8-J8 -> 150 | J8: 0
A9: 12020500 | B9: 50306 | C9: Postage | D9: 50 | F9: =H9/J9 -> 0 | H9: =D9-J9 -> 0 | J9: 50
A10: 12020500 | B10: 50307 | C10: Advertising | D10: 0 | F10: =H10/J10 -> -1 | H10: =D10-J10 -> -800 | J10: 800
A11: 12020500 | B11: 50401 | C11: Professional Development | D11: 500 | F11: =H11/J11 -> 0 | H11: =D11-J11 -> 0 | J11: 500
A12: 12020500 | B12: 50960 | C12: Employee Recognition | D12: =5000+1200 -> 6200 | F12: =H12/J12 -> 0.24 | H12: =D12-J12 -> 1200 | J12: 5000 | L12: employee recognition (season tickets)
C14: Total 12050500 Elected Officals | D14: =SUM(D4:D12) -> 28235 | F14: =H14/J14 -> 0.011753324 | H14: =SUM(H4:H12) -> 328 | J14: =SUM(J4:J12) -> 27907
A16: 12021000 | B16: 50101 | C16: Town Manager | D16: 113300 | F16: =H16/J16 -> 0.018701672 | H16: =D16-J16 -> 2080 | J16: 111220 | L16: 3% COLA
A17: 12021000 | B17: 50104 | C17: Non Supervisory | D17: =ROUNDUP((177841.52),0) -> 177842 | F17: =H17/J17 -> 0.071305081 | H17: =D17-J17 -> 11837 | J17: 166005 | L17: 3% COLA - FILLED POSITIONS WERE LESS THAN FY23 BUDGET
A18: 12021000 | B18: 50107 | C18: Administrative | D18: =ROUNDUP((48734.4),0) -> 48735 | F18: =H18/J18 -> 0.065013112 | H18: =D18-J18 -> 2975 | J18: 45760 | L18: 3% COLA
A19: 12021000 | B19: 50201 | C19: Unemployment Costs | D19: =ROUNDUP((235.2),0) -> 236 | F19: =H19/J19 -> -0.20805369 | H19: =D19-J19 -> -62 | J19: 298
A20: 12021000 | B20: 50202 | C20: Workers Comp Insurance | D20: =ROUNDUP((4849.82),0) -> 4850 | F20: =H20/J20 -> 0.37315968 | H20: =D20-J20 -> 1318 | J20: 3532
A21: 12021000 | B21: 50210 | C21: MEPERS - Employer Share | D21: =ROUNDUP((34667.34),0) -> 34668 | F21: =H21/J21 -> 0.052331229 | H21: =D21-J21 -> 1724 | J21: 32944
A22: 12021000 | B22: 50220 | C22: Health Insurance | D22: =ROUNDUP((30774.57),0) -> 30775 | F22: =H22/J22 -> -0.5185388 | H22: =D22-J22 -> -33145 | J22: 63920
A23: 12021000 | B23: 50230 | C23: FICA Employer Costs | D23: =ROUNDUP((26000.51),0) -> 26001 | F23: =H23/J23 -> 0.052331229 | H23: =D23-J23 -> 1293 | J23: 24708
A24: 12021000 | B24: 50301 | C24: Office Supplies | D24: 2000 | F24: =H24/J24 -> 0 | H24: =D24-J24 -> 0 | J24: 2000
A25: 12021000 | B25: 50306 | C25: Postage | D25: 75 | F25: =H25/J25 -> -0.75 | H25: =D25-J25 -> -225 | J25: 300
A26: 12021000 | B26: 50307 | C26: Advertising | D26: 1000 | F26: =H26/J26 -> 0 | H26: =D26-J26 -> 0 | J26: 1000
A27: 12021000 | B27: 50352 | C27: Cell Phone/Allowances | D27: 1260 | F27: =H27/J27 -> 0 | H27: =D27-J27 -> 0 | J27: 1260
A28: 12021000 | B28: 50401 | C28: Professional Development | D28: 7000 | F28: =H28/J28 -> 0.75 | H28: =D28-J28 -> 3000 | J28: 4000
A29: 12021000 | B29: 50402 | C29: Dues and Memberships | D29: 2000 | F29: =H29/J29 -> 19 | H29: =D29-J29 -> 1900 | J29: 100
A30: 12021000 | B30: 50413 | C30: Mileage/ travel reimbursement | D30: 6020 | F30: =H30/J30 -> 1.0758621 | H30: =D30-J30 -> 3120 | J30: 2900
A31: 12021000 | B31: 50451 | C31: Contracted Professional Svs | D31: 5000 | F31: 1 | H31: =D31-J31 -> 5000 | J31: 0 | L31: HR Consulting - Town Manager evaluations
A32: 12021000 | B32: 50452 | C32: Audit services | D32: 12934 | F32: =H32/J32 -> 0.30199315 | H32: =D32-J32 -> 3000 | J32: 9934
C34: Total 12021000 Town Manager | D34: =SUM(D16:D32) -> 473696 | F34: =H34/J34 -> 0.008119077 | H34: =SUM(H16:H33) -> 3815 | J34: =SUM(J16:J32) -> 469881
A36: ORG | B36: OBJ | C36: ACCOUNT DESCRIPTION | D36: FY24 Projected Managerial Budget Appropriation | F36: % Change between Department Head Budget Appropriation and Managerial Budget Appropriation | H36: $ Change between Department Head Budget Appropriation and Managerial Budget Appropriation | J36: FY23 Approved Budget Appropriation
A37: 12021500 | B37: 50108 | C37: Elected Officials | D37: =ROUNDUP((787.8),0) -> 788 | F37: =H37/J37 -> -0.0012674271 | H37: =D37-J37 -> -1 | J37: 789
A38: 12021500 | B38: 50202 | C38: Workers Comp Insurance | D38: =ROUNDUP((3.69),0) -> 4 | F38: =H38/J38 -> 3 | H38: =D38-J38 -> 3 | J38: 1
A39: 12021500 | B39: 50230 | C39: FICA Employer Costs | D39: =ROUNDUP((60.27),0) -> 61 | F39: =H39/J39 -> 0.016666667 | H39: =D39-J39 -> 1 | J39: 60
A40: 12021500 | B40: 50301 | C40: Office Supplies | D40: 50 | F40: =H40/J40 -> 0 | H40: =D40-J40 -> 0 | J40: 50
A41: 12021500 | B41: 50306 | C41: Postage | D41: 50 | F41: =H41/J41 -> 0 | H41: =D41-J41 -> 0 | J41: 50
A42: 12021500 | B42: 50307 | C42: Advertising | D42: 250 | F42: =H42/J42 -> 0 | H42: =D42-J42 -> 0 | J42: 250
A43: 12021500 | B43: 50401 | C43: Professional Development | D43: 140 | F43: =H43/J43 -> 0 | H43: =D43-J43 -> 0 | J43: 140
C45: Total 12021500 Appeals Board | D45: =SUM(D37:D43) -> 1343 | F45: =H45/J45 -> 0.002238806 | H45: =SUM(H37:H43) -> 3 | J45: =SUM(J37:J43) -> 1340
A47: 12021600 | B47: 50108 | C47: Elected Officials | D47: =ROUNDUP((5249.52),0) -> 5250 | F47: =H47/J47 -> 0 | H47: =D47-J47 -> 0 | J47: 5250
...

Sheet Com Center
A1: ORG | B1: OBJ | C1: ACCOUNT DESCRIPTION | D1: FY24 Projected Managerial Budget Appropriation | F1: % Change between Department Head Budget Appropriation and Managerial Budget Appropriation | H1: $ Change between Department Head Budget Appropriation and Managerial Budget Appropriation | J1: FY23 Approved Budget Appropriation
A2: 14046000 | B2: 50104 | C2: Non Supervisory | D2: =ROUNDUP((199285.86),0) -> 199286 | F2: =H2/J2 -> 0.019454377 | H2: =D2-J2 -> 3803 | J2: 195483
A3: 14046000 | B3: 50116 | C3: Union | D3: 3500 | F3: =H3/J3 -> 0 | H3: =D3-J3 -> 0 | J3: 3500
A4: 14046000 | B4: 50130 | C4: Temporary/seasonal | D4: 21630 | F4: =H4/J4 -> 0 | H4: =D4-J4 -> 0 | J4: 21630
A5: 14046000 | B5: 50140 | C5: Overtime wages | D5: 1350 | F5: =H5/J5 -> 0 | H5: =D5-J5 -> 0 | J5: 1350
A6: 14046000 | B6: 50145 | C6: Replacement Wages | D6: 62325 | F6: =H6/J6 -> 0.21019417 | H6: =D6-J6 -> 10825 | J6: 51500
A7: 14046000 | B7: 50201 | C7: Unemployment Costs | D7: =ROUNDUP((359.42),0) -> 360 | F7: =H7/J7 -> 0.20805369 | H7: =D7-J7 -> 62 | J7: 298
A8: 14046000 | B8: 50202 | C8: Workers Comp Insurance | D8: =ROUNDUP((1317.37),0) -> 1318 | F8: =H8/J8 -> 0.71391417 | H8: =D8-J8 -> 549 | J8: 769
A9: 14046000 | B9: 50210 | C9: MEPERS - Employer Share | D9: =ROUNDUP((33274.99),0) -> 33275 | F9: =H9/J9 -> 0.0121673 | H9: =D9-J9 -> 400 | J9: 32875
A10: 14046000 | B10: 50220 | C10: Health Insurance | D10: =ROUNDUP((29344.36),0) -> 29345 | F10: =H10/J10 -> -0.26804021 | H10: =D10-J10 -> -10746 | J10: 40091
A11: 14046000 | B11: 50230 | C11: FICA Employer Costs | D11: =ROUNDUP((22038.95),0) -> 22039 | F11: =H11/J11 -> 0.06520058 | H11: =D11-J11 -> 1349 | J11: 20690
A12: 14046000 | B12: 50301 | C12: Office Supplies | D12: 1000 | F12: =H12/J12 -> 0 | H12: =D12-J12 -> 0 | J12: 1000
A13: 14046000 | B13: 50307 | C13: Advertising | D13: 120 | F13: =H13/J13 -> 0 | H13: =D13-J13 -> 0 | J13: 120
A14: 14046000 | B14: 50349 | C14: Recruitment Testing | D14: 300 | F14: =H14/J14 -> 0 | H14: =D14-J14 -> 0 | J14: 300
A15: 14046000 | B15: 50351 | C15: Clothing/Boot Allowance | D15: 2250 | F15: =H15/J15 -> 0 | H15: =D15-J15 -> 0 | J15: 2250
A16: 14046000 | B16: 50401 | C16: Professional Development | D16: 1450 | F16: =H16/J16 -> 0 | H16: =D16-J16 -> 0 | J16: 1450
A17: 14046000 | B17: 50512 | C17: Telephone | D17: 1900 | F17: =H17/J17 -> 0 | H17: =D17-J17 -> 0 | J17: 1900
A18: 14046000 | B18: 50536 | C18: R&M: Equipment | D18: 1125 | F18: =H18/J18 -> 0 | H18: =D18-J18 -> 0 | J18: 1125
C20: Total 14046000 Lisbon Communications Cen | D20: =SUM(D2:D18) -> 382573 | F20: =H20/J20 -> 0.016586462 | H20: =SUM(H2:H18) -> 6242 | J20: =SUM(J2:J18) -> 376331

Sheet ACO
A1: ORG | B1: OBJ | C1: ACCOUNT DESCRIPTION | D1: FY24 Projected Managerial Budget Appropriation | F1: % Change between Department Head Budget Appropriation and Managerial Budget Appropriation | H1: $ Change between Department Head Budget Appropriation and Managerial Budget Appropriation | J1: FY23 Approved Budget Appropriation | L1: Comments
A2: 14045000 | B2: 50104 | C2: Non Supervisory | D2: =ROUNDUP((56778.58),0) -> 56779 | F2: =H2/J2 -> 0.030004535 | H2: =D2-J2 -> 1654 | J2: 55125 | L2: 3% COLA
A3: 14045000 | B3: 50140 | C3: Overtime | D3: 2160 | F3: =H3/J3 -> 0 | H3: =D3-J3 -> 0 | J3: 2160
A4: 14045000 | B4: 50201 | C4: Unemployment Costs | D4: =ROUNDUP((85.7),0) -> 86 | F4: =H4/J4 -> -0.23214286 | H4: =D4-J4 -> -26 | J4: 112
A5: 14045000 | B5: 50202 | C5: Workers Comp Insurance | D5: =ROUNDUP((1047.07),0) -> 1048 | F5: =H5/J5 -> 0.18686297 | H5: =D5-J5 -> 165 | J5: 883
A6: 14045000 | B6: 50210 | C6: MEPERS - Employer Share | D6: =ROUNDUP((5791.41),0) -> 5792 | F6: =H6/J6 -> 0.020257178 | H6: =D6-J6 -> 115 | J6: 5677
A7: 14045000 | B7: 50220 | C7: Health Insurance | D7: =ROUNDUP((27269.05),0) -> 27270 | F7: =H7/J7 -> 0.097295992 | H7: =D7-J7 -> 2418 | J7: 24852
A8: 14045000 | B8: 50230 | C8: FICA Employer Costs | D8: =ROUNDUP((4508.8),0) -> 4509 | F8: =H8/J8 -> 0.0289822 | H8: =D8-J8 -> 127 | J8: 4382
A9: 14045000 | B9: 50302 | C9: Operating supplies | D9: 1000 | F9: =H9/J9 -> 0 | H9: =D9-J9 -> 0 | J9: 1000
A10: 14045000 | B10: 50351 | C10: Clothing/Boot Allowance | D10: 600 | F10: =H10/J10 -> 0 | H10: =D10-J10 -> 0 | J10: 600
A11: 14045000 | B11: 50352 | C11: Cell Phone/Allowances | D11: 720 | F11: =H11/J11 -> 0.152 | H11: =D11-J11 -> 95 | J11: 625
A12: 14045000 | B12: 50375 | C12: Gas | D12: 3968 | F12: =H12/J12 -> 0 | H12: =D12-J12 -> 0 | J12: 3968
A13: 14045000 | B13: 50378 | C13: Tires Expense | D13: 700 | F13: =H13/J13 -> 0 | H13: =D13-J13 -> 0 | J13: 700
A14: 14045000 | B14: 50401 | C14: Professional Development | D14: 400 | F14: =H14/J14 -> 0 | H14: =D14-J14 -> 0 | J14: 400
A15: 14045000 | B15: 50453 | C15: Animal Shelter Services | D15: 14761 | F15: =H15/J15 -> 0.048292025 | H15: =D15-J15 -> 680 | J15: 14081
A16: 14045000 | B16: 50536 | C16: R&M: Equipment | D16: 2000 | F16: =H16/J16 -> 1.1052632 | H16: =D16-J16 -> 1050 | J16: 950
A17: 14045000 | B17: 50710 | C17: Equipment | D17: =16500-16250 -> 250 | F17: =H17/J17 -> 0 | H17: =D17-J17 -> 0 | J17: 250 | L17: Removed ACO truck equipment from Dept Head Budget
A18: 14045000 | B18: 50720 | C18: Vehicles | D18: 0 | F18: 0 | H18: =D18-J18 -> 0 | J18: 0 | L18: removed ACO truck from Department Head Budget
C20: Total 14045000 Animal Control Officer | D20: =SUM(D2:D18) -> 122043 | F20: =H20/J20 -> 0.054230553 | H20: =SUM(H2:H18) -> 6278 | J20: =SUM(J2:J18) -> 115765

Sheet Police
A1: ORG | B1: OBJ | C1: ACCOUNT DESCRIPTION | D1: FY24 Projected Managerial Budget Appropriation | F1: % Change between Department Head Budget Appropriation and Managerial Budget Appropriation | H1: $ Change between Department Head Budget Appropriation and Managerial Budget Appropriation | J1: FY23 Approved Budget Appropriation
A2: 14040500 | B2: 50102 | C2: Department Head | D2: =ROUNDUP((98143.34),0) -> 98144 | F2: =H2/J2 -> 0.030004723 | H2: =D2-J2 -> 2859 | J2: 95285 | L2: 3% COLA
A3: 14040500 | B3: 50104 | C3: Non Supervisory | D3: =ROUNDUP((1098056.83),0) -> 1098057 | F3: =H3/J3 -> 0.10811313 | H3: =D3-J3 -> 107132 | J3: 990925 | L3: 3% COLA
A4: 14040500 | B4: 50107 | C4: Administrative | D4: =ROUNDUP((53602.85),0) -> 53603 | F4: =H4/J4 -> 0.029995004 | H4: =D4-J4 -> 1561 | J4: 52042 | L4: 3% COLA
A5: 14040500 | B5: 50116 | C5: Union | D5: 17000 | F5: =H5/J5 -> 0 | H5: =D5-J5 -> 0 | J5: 17000
A6: 14040500 | B6: 50117 | C6: Misc. Police Detail | D6: 10000 | F6: =H6/J6 -> 0.42857143 | H6: =D6-J6 -> 3000 | J6: 7000
A7: 14040500 | B7: 50130 | C7: Temporary/seasonal | D7: 34994 | F7: =H7/J7 -> 0 | H7: =D7-J7 -> 0 | J7: 34994
A8: 14040500 | B8: 50140 | C8: Overtime wages | D8: 47704 | F8: =H8/J8 -> 0.21076142 | H8: =D8-J8 -> 8304 | J8: 39400
A9: 14040500 | B9: 50143 | C9: Court time | D9: 5000 | F9: =H9/J9 -> 0 | H9: =D9-J9 -> 0 | J9: 5000
A10: 14040500 | B10: 50145 | C10: Replacement Wages | D10: =ROUNDUP((170178),0) -> 170178 | F10: =H10/J10 -> 0.18015257 | H10: =D10-J10 -> 25978 | J10: 144200
A11: 14040500 | B11: 50201 | C11: Unemployment Costs | D11: =ROUNDUP((1367.1),0) -> 1368 | F11: =H11/J11 -> -0.17490953 | H11: =D11-J11 -> -290 | J11: 1658
A12: 14040500 | B12: 50202 | C12: Workers Comp Insurance | D12: =ROUNDUP((74448.2),0) -> 74449 | F12: =H12/J12 -> 0.75301985 | H12: =D12-J12 -> 31980 | J12: 42469
A13: 14040500 | B13: 50210 | C13: MEPERS - Employer Share | D13: =ROUNDUP((187114.65),0) -> 187115 | F13: =H13/J13 -> 0.065320368 | H13: =D13-J13 -> 11473 | J13: 175642
A14: 14040500 | B14: 50220 | C14: Health Insurance | D14: =ROUNDUP((347579.6),0) -> 347580 | F14: =H14/J14 -> 0.10535856 | H14: =D14-J14 -> 33130 | J14: 314450
A15: 14040500 | B15: 50230 | C15: FICA Employer Costs | D15: =ROUNDUP((116102.45),0) -> 116103 | F15: =H15/J15 -> 0.10873115 | H15: =D15-J15 -> 11386 | J15: 104717
A16: 14040500 | B16: 50260 | C16: Uniform cleaning | D16: 500 | F16: =H16/J16 -> 0 | H16: =D16-J16 -> 0 | J16: 500
A17: 14040500 | B17: 50301 | C17: Office Supplies | D17: 5150 | F17: =H17/J17 -> 0 | H17: =D17-J17 -> 0 | J17: 5150
A18: 14040500 | B18: 50302 | C18: Operating supplies | D18: 17000 | F18: =H18/J18 -> 0.21428571 | H18: =D18-J18 -> 3000 | J18: 14000
A19: 14040500 | B19: 50306 | C19: Postage | D19: 300 | F19: =H19/J19 -> -0.14285714 | H19: =D19-J19 -> -50 | J19: 350
A20: 14040500 | B20: 50307 | C20: Advertising | D20: 200 | F20: =H20/J20 -> 0 | H20: =D20-J20 -> 0 | J20: 200
A21: 14040500 | B21: 50308 | C21: Printing | D21: 3400 | F21: =H21/J21 -> 0.30769231 | H21: =D21-J21 -> 800 | J21: 2600
A22: 14040500 | B22: 50349 | C22: Recruitment Testing | D22: 1750 | F22: =H22/J22 -> 0 | H22: =D22-J22 -> 0 | J22: 1750
A23: 14040500 | B23: 50351 | C23: Clothing/Boot Allowance | D23: 21800 | F23: =H23/J23 -> 0.12371134 | H23: =D23-J23 -> 2400 | J23: 19400
A24: 14040500 | B24: 50352 | C24: Cell Phone/Allowances | D24: 6634 | F24: =H24/J24 -> 0.057379662 | H24: =D24-J24 -> 360 | J24: 6274
A25: 14040500 | B25: 50353 | C25: Physicals | D25: 1900 | F25: =H25/J25 -> 0 | H25: =D25-J25 -> 0 | J25: 1900
A26: 14040500 | B26: 50375 | C26: Gas | D26: 33775 | F26: =H26/J26 -> -0.10589014 | H26: =D26-J26 -> -4000 | J26: 37775
A27: 14040500 | B27: 50377 | C27: Diesel | D27: 234 | F27: =H27/J27 -> 0 | H27: =D27-J27 -> 0 | J27: 234
... A35: 14040500 | B35: 50536 | C35: R&M: Equipment | D35: 5500 | F35: =H35/J35 -> 0 | H35: =D35-J35 -> 0 | J35: 5500
A36: 14040500 | B36: 50710 | C36: Equipment | D36: =23750-5000 -> 18750 | F36: =H36/J36 -> 4 | H36: =D36-J36 -> 15000 | J36: 3750 | L36: K9 Equipment and equipment for cruisers
A37: 14040500 | B37: 50720 | C37: Equipment – vehicles | D37: =115000-25000 -> 90000 | F37: =H37/J37 -> 0.34328358 | H37: =D37-J37 -> 23000 | J37: 67000 | L37: 2 CRUISERS
C39: Total 14040500 Police | D39: =SUM(D2:D37) -> 2518642 | F39: =H39/J39 -> 0.12539606 | H39: =SUM(H2:H37) -> 280637 | J39: =SUM(J2:J37) -> 2238005

Sheet FY24 Department Head Budget
D2: FY24 | F2: compare Managerial to Department | H2: compare Managerial to Department | J2: FY24 | L2: Compare FY24 to FY23 | N2: Compare FY24 to FY23 | P2: FY23 | Q2: COMMENTS
A3: ORG | B3: OBJ | C3: ACCOUNT DESCRIPTION | D3: FY24 Projected Managerial Budget Appropriation | F3: % Change between Department Head Budget Appropriation and Managerial Budget Appropriation | H3: $ Change between Department Head Budget Appropriation and Managerial Budget Appropriation | J3: FY24 Projected Department Head Budget Appropriation | L3: % Change between FY23 Approved Budget and FY24 Projected Department Head Budget | N3: $Amount Increase/(Decrease) FY23 Budget compared to FY24 Department Head Budget | P3: FY23 Approved Budget Appropriation
A4: 12020500 | B4: 50108 | C4: Elected Officals | D4: =ROUNDUP((19500.52),0) -> 19501 | F4: =H4/J4 -> 0 | H4: =D4-J4 -> 0 | J4: =ROUNDUP((19500.52),0) -> 19501 | L4: =N4/P4 -> -0.00035882715 | N4: =J4-P4 -> -7 | P4: 19508
A5: 12020500 | B5: 50202 | C5: Workers Comp Insurance | D5: =ROUNDUP((91.23),0) -> 92 | F5: =H5/J5 -> 0 | H5: =D5-J5 -> 0 | J5: =ROUNDUP((91.23),0) -> 92 | L5: =N5/P5 -> 0.61403509 | N5: =J5-P5 -> 35 | P5: 57
A6: 12020500 | B6: 50230 | C6: FICA Employer Costs | D6: =ROUNDUP((1491.79),0) -> 1492 | F6: =H6/J6 -> 0 | H6: =D6-J6 -> 0 | J6: =ROUNDUP((1491.79),0) -> 1492 | L6: =N6/P6 -> 0 | N6: =J6-P6 -> 0 | P6: 1492
A7: 12020500 | B7: 50301 | C7: Office Supplies | D7: 250 | F7: =H7/J7 -> 0 | H7: =D7-J7 -> 0 | J7: 250 | L7: =N7/P7 -> -0.5 | N7: =J7-P7 -> -250 | P7: 500
A8: 12020500 | B8: 50305 | C8: Books and Periodicals | D8: 150 | F8: =H8/J8 -> 0 | H8: =D8-J8 -> 0 | J8: 150 | L8: 1 | N8: =J8-P8 -> 150 | P8: 0
A9: 12020500 | B9: 50306 | C9: Postage | D9: 50 | F9: =H9/J9 -> 0 | H9: =D9-J9 -> 0 | J9: 50 | L9: =N9/P9 -> 0 | N9: =J9-P9 -> 0 | P9: 50
A10: 12020500 | B10: 50307 | C10: Advertising | D10: 0 | F10: 0 | H10: =D10-J10 -> 0 | J10: 0 | L10: =N10/P10 -> -1 | N10: =J10-P10 -> -800 | P10: 800
A11: 12020500 | B11: 50401 | C11: Professional Development | D11: 500 | F11: =H11/J11 -> 0 | H11: =D11-J11 -> 0 | J11: 500 | L11: =N11/P11 -> 0 | N11: =J11-P11 -> 0 | P11: 500
A12: 12020500 | B12: 50960 | C12: Employee Recognition | D12: =5000+1200 -> 6200 | F12: =H12/J12 -> 0.24 | H12: =D12-J12 -> 1200 | J12: 5000 | L12: =N12/P12 -> 0 | N12: =J12-P12 -> 0 | P12: 5000
C14: Total 12050500 Elected Officals | D14: =SUM(D4:D12) -> 28235 | F14: =H14/J14 -> 0.044386906 | H14: =SUM(H4:H12) -> 1200 | J14: =SUM(J4:J12) -> 27035 | L14: =N14/P14 -> -0.031246641 | N14: =SUM(N4:N12) -> -872 | P14: =SUM(P4:P12) -> 27907
A16: 12021000 | B16: 50101 | C16: Town Manager | D16: 113300 | F16: =H16/J16 -> 0 | H16: =D16-J16 -> 0 | J16: 113300 | L16: =N16/P16 -> 0.018701672 | N16: =J16-P16 -> 2080 | P16: 111220 | Q16: 3% COLA
A17: 12021000 | B17: 50104 | C17: Non Supervisory | D17: =ROUNDUP((177841.52),0) -> 177842 | F17: =H17/J17 -> 0.040650692 | H17: =D17-J17 -> 6947 | J17: =ROUNDUP((170894.32),0) -> 170895 | L17: =N17/P17 -> 0.029456944 | N17: =J17-P17 -> 4890 | P17: 166005 | Q17: 3% COLA - FILLED POSITIONS WERE LESS THAN FY23 BUDGET
A18: 12021000 | B18: 50107 | C18: Administrative | D18: =ROUNDUP((48734.4),0) -> 48735 | F18: =H18/J18 -> 0.033988925 | H18: =D18-J18 -> 1602 | J18: =ROUNDUP((47132.8),0) -> 47133 | L18: =N18/P18 -> 0.030004371 | N18: =J18-P18 -> 1373 | P18: 45760 | Q18: 3% COLA
A19: 12021000 | B19: 50201 | C19: Unemployment Costs | D19: =ROUNDUP((235.2),0) -> 236 | F19: =H19/J19 -> 0 | H19: =D19-J19 -> 0 | J19: =ROUNDUP((235.2),0) -> 236 | L19: =N19/P19 -> -0.20805369 | N19: =J19-P19 -> -62 | P19: 298
A20: 12021000 | B20: 50202 | C20: Workers Comp Insurance | D20: =ROUNDUP((4849.82),0) -> 4850 | F20: =H20/J20 -> 0.0083160083 | H20: =D20-J20 -> 40 | J20: =ROUNDUP((4809.82),0) -> 4810 | L20: =N20/P20 -> 0.36183465 | N20: =J20-P20 -> 1278 | P20: 3532
A21: 12021000 | B21: 50210 | C21: MEPERS - Employer Share | D21: =ROUNDUP((34667.34),0) -> 34668 | F21: =H21/J21 -> 0.02580187 | H21: =D21-J21 -> 872 | J21: =ROUNDUP((33795.37),0) -> 33796 | L21: =N21/P21 -> 0.025862069 | N21: =J21-P21 -> 852 | P21: 32944
A22: 12021000 | B22: 50220 | C22: Health Insurance | D22: =ROUNDUP((30774.57),0) -> 30775 | F22: =H22/J22 -> 0 | H22: =D22-J22 -> 0 | J22: =ROUNDUP((30774.57),) -> 30775 | L22: =N22/P22 -> -0.5185388 | N22: =J22-P22 -> -33145 | P22: 63920
A23: 12021000 | B23: 50230 | C23: FICA Employer Costs | D23: =ROUNDUP((26000.51),0) -> 26001 | F23: =H23/J23 -> 0.02580187 | H23: =D23-J23 -> 654 | J23: =ROUNDUP((25346.52),0) -> 25347 | L23: =N23/P23 -> 0.025862069 | N23: =J23-P23 -> 639 | P23: 24708
A24: 12021000 | B24: 50301 | C24: Office Supplies | D24: 2000 | F24: =H24/J24 -> 0 | H24: =D24-J24 -> 0 | J24: 2000 | L24: =N24/P24 -> 0 | N24: =J24-P24 -> 0 | P24: 2000
A25: 12021000 | B25: 50306 | C25: Postage | D25: 75 | F25: =H25/J25 -> 0 | H25: =D25-J25 -> 0 | J25: 75 | L25: =N25/P25 -> -0.75 | N25: =J25-P25 -> -225 | P25: 300
A26: 12021000 | B26: 50307 | C26: Advertising | D26: 1000 | F26: =H26/J26 -> 0 | H26: =D26-J26 -> 0 | J26: 1000 | L26: =N26/P26 -> 0 | N26: =J26-P26 -> 0 | P26: 1000
A27: 12021000 | B27: 50352 | C27: Cell Phone/Allowances | D27: 1260 | F27: =H27/J27 -> 0 | H27: =D27-J27 -> 0 | J27: 1260 | L27: =N27/P27 -> 0 | N27: =J27-P27 -> 0 | P27: 1260
A28: 12021000 | B28: 50401 | C28: Professional Development | D28: 7000 | F28: =H28/J28 -> 0 | H28: =D28-J28 -> 0 | J28: 7000 | L28: =N28/P28 -> 0.75 | N28: =J28-P28 -> 3000 | P28: 4000
A29: 12021000 | B29: 50402 | C29: Dues and Memberships | D29: 2000 | F29: =H29/J29 -> 0 | H29: =D29-J29 -> 0 | J29: 2000 | L29: =N29/P29 -> 19 | N29: =J29-P29 -> 1900 | P29: 100
A30: 12021000 | B30: 50413 | C30: Mileage/ travel reimbursement | D30: 6020 | F30: =H30/J30 -> 0 | H30: =D30-J30 -> 0 | J30: 6020 | L30: =N30/P30 -> 1.0758621 | N30: =J30-P30 -> 3120 | P30: 2900
A31: 12021000 | B31: 50451 | C31: Contracted Professional Svs | D31: 5000 | F31: 1 | H31: =D31-J31 -> 5000 | J31: 0 | L31: 0 | N31: =J31-P31 -> 0 | P31: 0 | Q31: HR Consulting - Town Manager evaluations
A32: 12021000 | B32: 50452 | C32: Audit services | D32: 12934 | F32: =H32/J32 -> 0 | H32: =D32-J32 -> 0 | J32: 12934 | L32: =N32/P32 -> 0.30199315 | N32: =J32-P32 -> 3000 | P32: 9934
C34: Total 12021000 Town Manager | D34: =SUM(D16:D32) -> 473696 | F34: =H34/J34 -> 0.032960371 | H34: =SUM(H16:H33) -> 15115 | J34: =SUM(J16:J32) -> 458581 | L34: =N34/P34 -> -0.024048642 | N34: =SUM(N16:N32) -> -11300 | P34: =SUM(P16:P32) -> 469881
A36: 12021500 | B36: 50108 | C36: Elected Officials | D36: =ROUNDUP((787.8),0) -> 788 | F36: =H36/J36 -> 0 | H36: =D36-J36 -> 0 | J36: =ROUNDUP((787.8),0) -> 788 | L36: =N36/P36 -> -0.0012674271 | N36: =J36-P36 -> -1 | P36: 789
A37: 12021500 | B37: 50202 | C37: Workers Comp Insurance | D37: =ROUNDUP((3.69),0) -> 4 | F37: =H37/J37 -> 0 | H37: =D37-J37 -> 0 | J37: =ROUNDUP((3.69),0) -> 4 | L37: =N37/P37 -> 3 | N37: =J37-P37 -> 3 | P37: 1
A38: 12021500 | B38: 50230 | C38: FICA Employer Costs | D38: =ROUNDUP((60.27),0) -> 61 | F38: =H38/J38 -> 0 | H38: =D38-J38 -> 0 | J38: =ROUNDUP((60.27),0) -> 61 | L38: =N38/P38 -> 0.016666667 | N38: =J38-P38 -> 1 | P38: 60
A39: 12021500 | B39: 50301 | C39: Office Supplies | D39: 50 | F39: =H39/J39 -> 0 | H39: =D39-J39 -> 0 | J39: 50 | L39: =N39/P39 -> 0 | N39: =J39-P39 -> 0 | P39: 50
A40: 12021500 | B40: 50306 | C40: Postage | D40: 50 | F40: =H40/J40 -> 0 | H40: =D40-J40 -> 0 | J40: 50 | L40: =N40/P40 -> 0 | N40: =J40-P40 -> 0 | P40: 50
A41: 12021500 | B41: 50307 | C41: Advertising | D41: 250 | F41: =H41/J41 -> 0 | H41: =D41-J41 -> 0 | J41: 250 | L41: =N41/P41 -> 0 | N41: =J41-P41 -> 0 | P41: 250
A42: 12021500 | B42: 50401 | C42: Professional Development | D42: 140 | F42: =H42/J42 -> 0 | H42: =D42-J42 -> 0 | J42: 140 | L42: =N42/P42 -> 0 | N42: =J42-P42 -> 0 | P42: 140
C44: Total 12021500 Appeals Board | D44: =SUM(D36:D42) -> 1343 | F44: =H44/J44 -> 0 | H44: =SUM(H36:H42) -> 0 | J44: =SUM(J36:J42) -> 1343 | L44: =N44/P44 -> 0.002238806 | N44: =SUM(N36:N42) -> 3 | P44: =SUM(P36:P42) -> 1340
A46: 12021600 | B46: 50108 | C46: Elected Officials | D46: =ROUNDUP((5249.52),0) -> 5250 | F46: =H46/J46 -> 0 | H46: =D46-J46 -> 0 | J46: =ROUNDUP((5249.52),0) -> 5250 | L46: =N46/P46 -> 0 | N46: =J46-P46 -> 0 | P46: 5250
A47: 12021600 | B47: 50202 | C47: Workers Comp Insurance | D47: =ROUNDUP((24.56),0) -> 25 | F47: =H47/J47 -> 0 | H47: =D47-J47 -> 0 | J47: =ROUNDUP((24.56),0) -> 25 | L47: =N47/P47 -> 0.78571429 | N47: =J47-P47 -> 11 | P47: 14
...

Sheet FY24 Depart Head Budget Print
D2: FY24 | F2: compare Managerial to Department | H2: compare Managerial to Department | J2: FY24 | L2: Compare FY24 to FY23 | N2: Compare FY24 to FY23 | P2: FY23 | Q2: COMMENTS
A3: ORG | B3: OBJ | C3: ACCOUNT DESCRIPTION | D3: FY24 Projected Managerial Budget Appropriation | F3: % Change between Department Head Budget Appropriation and Managerial Budget Appropriation | H3: $ Change between Department Head Budget Appropriation and Managerial Budget Appropriation | J3: FY24 Projected Department Head Budget Appropriation | L3: % Change between FY23 Approved Budget and FY24 Projected Department Head Budget | N3: $Amount Increase/(Decrease) FY23 Budget compared to FY24 Department Head Budget | P3: FY23 Approved Budget Appropriation
A4: 12020500 | B4: 50108 | C4: Elected Officals | D4: =ROUNDUP((19500.52),0) -> 19501 | F4: =H4/J4 -> 0 | H4: =D4-J4 -> 0 | J4: =ROUNDUP((19500.52),0) -> 19501 | L4: =N4/P4 -> -0.00035882715 | N4: =J4-P4 -> -7 | P4: 19508
A5: 12020500 | B5: 50202 | C5: Workers Comp Insurance | D5: =ROUNDUP((91.23),0) -> 92 | F5: =H5/J5 -> 0 | H5: =D5-J5 -> 0 | J5: =ROUNDUP((91.23),0) -> 92 | L5: =N5/P5 -> 0.61403509 | N5: =J5-P5 -> 35 | P5: 57
A6: 12020500 | B6: 50230 | C6: FICA Employer Costs | D6: =ROUNDUP((1491.79),0) -> 1492 | F6: =H6/J6 -> 0 | H6: =D6-J6 -> 0 | J6: =ROUNDUP((1491.79),0) -> 1492 | L6: =N6/P6 -> 0 | N6: =J6-P6 -> 0 | P6: 1492
A7: 12020500 | B7: 50301 | C7: Office Supplies | D7: 250 | F7: =H7/J7 -> 0 | H7: =D7-J7 -> 0 | J7: 250 | L7: =N7/P7 -> -0.5 | N7: =J7-P7 -> -250 | P7: 500
A8: 12020500 | B8: 50305 | C8: Books and Periodicals | D8: 150 | F8: =H8/J8 -> 0 | H8: =D8-J8 -> 0 | J8: 150 | L8: 1 | N8: =J8-P8 -> 150 | P8: 0
A9: 12020500 | B9: 50306 | C9: Postage | D9: 50 | F9: =H9/J9 -> 0 | H9: =D9-J9 -> 0 | J9: 50 | L9: =N9/P9 -> 0 | N9: =J9-P9 -> 0 | P9: 50
A10: 12020500 | B10: 50307 | C10: Advertising | D10: 0 | F10: 0 | H10: =D10-J10 -> 0 | J10: 0 | L10: =N10/P10 -> -1 | N10: =J10-P10 -> -800 | P10: 800
A11: 12020500 | B11: 50401 | C11: Professional Development | D11: 500 | F11: =H11/J11 -> 0 | H11: =D11-J11 -> 0 | J11: 500 | L11: =N11/P11 -> 0 | N11: =J11-P11 -> 0 | P11: 500
A12: 12020500 | B12: 50960 | C12: Employee Recognition | D12: =5000+1200 -> 6200 | F12: =H12/J12 -> 0.24 | H12: =D12-J12 -> 1200 | J12: 5000 | L12: =N12/P12 -> 0 | N12: =J12-P12 -> 0 | P12: 5000
C14: Total 12050500 Elected Officals | D14: =SUM(D4:D12) -> 28235 | F14: =H14/J14 -> 0.044386906 | H14: =SUM(H4:H12) -> 1200 | J14: =SUM(J4:J12) -> 27035 | L14: =N14/P14 -> -0.031246641 | N14: =SUM(N4:N12) -> -872 | P14: =SUM(P4:P12) -> 27907
A16: 12021000 | B16: 50101 | C16: Town Manager | D16: 113300 | F16: =H16/J16 -> 0 | H16: =D16-J16 -> 0 | J16: 113300 | L16: =N16/P16 -> 0.018701672 | N16: =J16-P16 -> 2080 | P16: 111220 | Q16: 3% COLA
A17: 12021000 | B17: 50104 | C17: Non Supervisory | D17: =ROUNDUP((177841.52),0) -> 177842 | F17: =H17/J17 -> 0.040650692 | H17: =D17-J17 -> 6947 | J17: =ROUNDUP((170894.32),0) -> 170895 | L17: =N17/P17 -> 0.029456944 | N17: =J17-P17 -> 4890 | P17: 166005 | Q17: 3% COLA - FILLED POSITIONS WERE LESS THAN FY23 BUDGET
A18: 12021000 | B18: 50107 | C18: Administrative | D18: =ROUNDUP((48734.4),0) -> 48735 | F18: =H18/J18 -> 0.033988925 | H18: =D18-J18 -> 1602 | J18: =ROUNDUP((47132.8),0) -> 47133 | L18: =N18/P18 -> 0.030004371 | N18: =J18-P18 -> 1373 | P18: 45760 | Q18: 3% COLA
A19: 12021000 | B19: 50201 | C19: Unemployment Costs | D19: =ROUNDUP((235.2),0) -> 236 | F19: =H19/J19 -> 0 | H19: =D19-J19 -> 0 | J19: =ROUNDUP((235.2),0) -> 236 | L19: =N19/P19 -> -0.20805369 | N19: =J19-P19 -> -62 | P19: 298
A20: 12021000 | B20: 50202 | C20: Workers Comp Insurance | D20: =ROUNDUP((4849.82),0) -> 4850 | F20: =H20/J20 -> 0.0083160083 | H20: =D20-J20 -> 40 | J20: =ROUNDUP((4809.82),0) -> 4810 | L20: =N20/P20 -> 0.36183465 | N20: =J20-P20 -> 1278 | P20: 3532
A21: 12021000 | B21: 50210 | C21: MEPERS - Employer Share | D21: =ROUNDUP((34667.34),0) -> 34668 | F21: =H21/J21 -> 0.02580187 | H21: =D21-J21 -> 872 | J21: =ROUNDUP((33795.37),0) -> 33796 | L21: =N21/P21 -> 0.025862069 | N21: =J21-P21 -> 852 | P21: 32944
A22: 12021000 | B22: 50220 | C22: Health Insurance | D22: =ROUNDUP((30774.57),0) -> 30775 | F22: =H22/J22 -> 0 | H22: =D22-J22 -> 0 | J22: =ROUNDUP((30774.57),) -> 30775 | L22: =N22/P22 -> -0.5185388 | N22: =J22-P22 -> -33145 | P22: 63920
A23: 12021000 | B23: 50230 | C23: FICA Employer Costs | D23: =ROUNDUP((26000.51),0) -> 26001 | F23: =H23/J23 -> 0.02580187 | H23: =D23-J23 -> 654 | J23: =ROUNDUP((25346.52),0) -> 25347 | L23: =N23/P23 -> 0.025862069 | N23: =J23-P23 -> 639 | P23: 24708
A24: 12021000 | B24: 50301 | C24: Office Supplies | D24: 2000 | F24: =H24/J24 -> 0 | H24: =D24-J24 -> 0 | J24: 2000 | L24: =N24/P24 -> 0 | N24: =J24-P24 -> 0 | P24: 2000
A25: 12021000 | B25: 50306 | C25: Postage | D25: 75 | F25: =H25/J25 -> 0 | H25: =D25-J25 -> 0 | J25: 75 | L25: =N25/P25 -> -0.75 | N25: =J25-P25 -> -225 | P25: 300
A26: 12021000 | B26: 50307 | C26: Advertising | D26: 1000 | F26: =H26/J26 -> 0 | H26: =D26-J26 -> 0 | J26: 1000 | L26: =N26/P26 -> 0 | N26: =J26-P26 -> 0 | P26: 1000
A27: 12021000 | B27: 50352 | C27: Cell Phone/Allowances | D27: 1260 | F27: =H27/J27 -> 0 | H27: =D27-J27 -> 0 | J27: 1260 | L27: =N27/P27 -> 0 | N27: =J27-P27 -> 0 | P27: 1260
A28: 12021000 | B28: 50401 | C28: Professional Development | D28: 7000 | F28: =H28/J28 -> 0 | H28: =D28-J28 -> 0 | J28: 7000 | L28: =N28/P28 -> 0.75 | N28: =J28-P28 -> 3000 | P28: 4000
A29: 12021000 | B29: 50402 | C29: Dues and Memberships | D29: 2000 | F29: =H29/J29 -> 0 | H29: =D29-J29 -> 0 | J29: 2000 | L29: =N29/P29 -> 19 | N29: =J29-P29 -> 1900 | P29: 100
A30: 12021000 | B30: 50413 | C30: Mileage/ travel reimbursement | D30: 6020 | F30: =H30/J30 -> 0 | H30: =D30-J30 -> 0 | J30: 6020 | L30: =N30/P30 -> 1.0758621 | N30: =J30-P30 -> 3120 | P30: 2900
A31: 12021000 | B31: 50451 | C31: Contracted Professional Svs | D31: 5000 | F31: 1 | H31: =D31-J31 -> 5000 | J31: 0 | L31: 0 | N31: =J31-P31 -> 0 | P31: 0 | Q31: HR Consulting - Town Manager evaluations
A32: 12021000 | B32: 50452 | C32: Audit services | D32: 12934 | F32: =H32/J32 -> 0 | H32: =D32-J32 -> 0 | J32: 12934 | L32: =N32/P32 -> 0.30199315 | N32: =J32-P32 -> 3000 | P32: 9934
C34: Total 12021000 Town Manager | D34: =SUM(D16:D32) -> 473696 | F34: =H34/J34 -> 0.032960371 | H34: =SUM(H16:H33) -> 15115 | J34: =SUM(J16:J32) -> 458581 | L34: =N34/P34 -> -0.024048642 | N34: =SUM(N16:N32) -> -11300 | P34: =SUM(P16:P32) -> 469881
A36: 12021500 | B36: 50108 | C36: Elected Officials | D36: =ROUNDUP((787.8),0) -> 788 | F36: =H36/J36 -> 0 | H36: =D36-J36 -> 0 | J36: =ROUNDUP((787.8),0) -> 788 | L36: =N36/P36 -> -0.0012674271 | N36: =J36-P36 -> -1 | P36: 789
A37: 12021500 | B37: 50202 | C37: Workers Comp Insurance | D37: =ROUNDUP((3.69),0) -> 4 | F37: =H37/J37 -> 0 | H37: =D37-J37 -> 0 | J37: =ROUNDUP((3.69),0) -> 4 | L37: =N37/P37 -> 3 | N37: =J37-P37 -> 3 | P37: 1
A38: 12021500 | B38: 50230 | C38: FICA Employer Costs | D38: =ROUNDUP((60.27),0) -> 61 | F38: =H38/J38 -> 0 | H38: =D38-J38 -> 0 | J38: =ROUNDUP((60.27),0) -> 61 | L38: =N38/P38 -> 0.016666667 | N38: =J38-P38 -> 1 | P38: 60
A39: 12021500 | B39: 50301 | C39: Office Supplies | D39: 50 | F39: =H39/J39 -> 0 | H39: =D39-J39 -> 0 | J39: 50 | L39: =N39/P39 -> 0 | N39: =J39-P39 -> 0 | P39: 50
A40: 12021500 | B40: 50306 | C40: Postage | D40: 50 | F40: =H40/J40 -> 0 | H40: =D40-J40 -> 0 | J40: 50 | L40: =N40/P40 -> 0 | N40: =J40-P40 -> 0 | P40: 50
A41: 12021500 | B41: 50307 | C41: Advertising | D41: 250 | F41: =H41/J41 -> 0 | H41: =D41-J41 -> 0 | J41: 250 | L41: =N41/P41 -> 0 | N41: =J41-P41 -> 0 | P41: 250
A42: 12021500 | B42: 50401 | C42: Professional Development | D42: 140 | F42: =H42/J42 -> 0 | H42: =D42-J42 -> 0 | J42: 140 | L42: =N42/P42 -> 0 | N42: =J42-P42 -> 0 | P42: 140
C44: Total 12021500 Appeals Board | D44: =SUM(D36:D42) -> 1343 | F44: =H44/J44 -> 0 | H44: =SUM(H36:H42) -> 0 | J44: =SUM(J36:J42) -> 1343 | L44: =N44/P44 -> 0.002238806 | N44: =SUM(N36:N42) -> 3 | P44: =SUM(P36:P42) -> 1340
A46: 12021600 | B46: 50108 | C46: Elected Officials | D46: =ROUNDUP((5249.52),0) -> 5250 | F46: =H46/J46 -> 0 | H46: =D46-J46 -> 0 | J46: =ROUNDUP((5249.52),0) -> 5250 | L46: =N46/P46 -> 0 | N46: =J46-P46 -> 0 | P46: 5250
A47: 12021600 | B47: 50202 | C47: Workers Comp Insurance | D47: =ROUNDUP((24.56),0) -> 25 | F47: =H47/J47 -> 0 | H47: =D47-J47 -> 0 | J47: =ROUNDUP((24.56),0) -> 25 | L47: =N47/P47 -> 0.78571429 | N47: =J47-P47 -> 11 | P47: 14
...
